BEGIN:VCALENDAR
VERSION:2.0
PRODID:-//wp-events-plugin.com//7.2.3.1//EN
BEGIN:VEVENT
UID:1624@events.nfb.ca
DTSTART;TZID=America/Vancouver:20240227T130000
DTEND;TZID=America/Vancouver:20240227T150000
DTSTAMP:20240123T210949Z
URL:https://events.nfb.ca/events/vancouver-public-library-central-branch/
SUMMARY:BHM 2024 - Short Films
DESCRIPTION:As part of THE NFB IN LIBRARIES Black History Month programming
 \, the Vancouver Public Library - Central Branch is offering free screenin
 gs of the following film compilations in February :\n\nStep by Step(47 min
  – compilation of short films for youth)\n\n 	Black Soul\n 	Mind Me Good
  Now!\n 	Joe\n 	The Magic Lion\n 	The Cora Player\n 	Christopher Changes H
 is Name \n\nOn the Rise (65 min​ – short film compilation for adults
 ):\n\n 	Rita Shelton Deverell: Queen Bee\n 	Ice Breakers\n 	Oscar\n 	MacPh
 erson\n 	The Colour of Beauty\n 	Molly Movie\n 	The Big Reset – Governan
 ce \n\n---\n\nTo learn exact dates and times\, please contact the organis
 er : Home | Vancouver Public Library (vpl.ca)
ATTACH;FMTTYPE=image/jpeg:https://events.nfb.ca/wp-content/uploads/2024/01
 /1_OSCAR_10112113.jpg
CATEGORIES:Free Event,NFB IN LIBRARIES,Screenings
LOCATION:Vancouver Public Library - Central Library\, 350 West Georgia Stre
 et\, Vancouver\, British Columbia\, V6B 6B1\, Canada
GEO:49.279667;-123.115468
X-APPLE-STRUCTURED-LOCATION;VALUE=URI;X-ADDRESS=350 West Georgia Street\, V
 ancouver\, British Columbia\, V6B 6B1\, Canada;X-APPLE-RADIUS=100;X-TITLE=
 Vancouver Public Library - Central Library:geo:49.279667,-123.115468
END:VEVENT
BEGIN:VTIMEZONE
TZID:America/Vancouver
X-LIC-LOCATION:America/Vancouver
BEGIN:STANDARD
DTSTART:20231105T010000
TZOFFSETFROM:-0700
TZOFFSETTO:-0800
TZNAME:PST
END:STANDARD
END:VTIMEZONE
END:VCALENDAR