BEGIN:VCALENDAR
VERSION:2.0
PRODID:-//wp-events-plugin.com//7.2.3.1//EN
BEGIN:VEVENT
UID:1512@events.nfb.ca
DTSTART;TZID=America/New_York:20230930T110000
DTEND;TZID=America/New_York:20230930T130000
DTSTAMP:20230919T155522Z
URL:https://events.nfb.ca/events/toronto-public-library-forest-hill-branch
 /
SUMMARY:Toronto Public Library - Forest Hill Branch
DESCRIPTION:As part of THE NFB IN LIBRARIES annual programming\, the Forest
  Hill branch of the Toronto Public Library is offering free screening of n
 îpawistamâsowin: We Will Stand Up (Tasha Hubbard\, 2019)\, in honour of 
 National Day for Truth and Reconciliation :\n\nOn August 9\, 2016\, a youn
 g Cree man named Colten Boushie died from a gunshot to the back of his hea
 d after entering Gerald Stanley’s rural property with his friends. The j
 ury’s subsequent acquittal of Stanley captured international attention\,
  raising questions about racism embedded within Canada’s legal system an
 d propelling Colten’s family to national and international stages in the
 ir pursuit of justice. Sensitively directed by Tasha Hubbard\, nîpawista
 mâsowin: We Will Stand Up weaves a profound narrative encompassing the fi
 lmmaker’s own adoption\, the stark history of colonialism on the Prairie
 s\, and a vision of a future where Indigenous children can live safely on 
 their homelands.\n\n-----\n\nPlease visit organiser’s website for more i
 nfo : https://www.torontopubliclibrary.ca/foresthill/
ATTACH;FMTTYPE=image/jpeg:https://events.nfb.ca/wp-content/uploads/2023/06
 /We_Will_Stand_Up.jpg
CATEGORIES:Free Event,Screenings
LOCATION:Toronto Public Library - Forest Hill branch\, 700 Eglinton Avenue 
 West\, Toronto\, Ontario\, M5N 1B9\, Ontario\, Canada
GEO:43.70235;-79.420728
X-APPLE-STRUCTURED-LOCATION;VALUE=URI;X-ADDRESS=700 Eglinton Avenue West\, 
 Toronto\, Ontario\, M5N 1B9\, Ontario\, Canada;X-APPLE-RADIUS=100;X-TITLE=
 Toronto Public Library - Forest Hill branch:geo:43.70235,-79.420728
END:VEVENT
BEGIN:VTIMEZONE
TZID:America/New_York
X-LIC-LOCATION:America/New_York
BEGIN:DAYLIGHT
DTSTART:20230312T030000
TZOFFSETFROM:-0500
TZOFFSETTO:-0400
TZNAME:EDT
END:DAYLIGHT
END:VTIMEZONE
END:VCALENDAR