BEGIN:VCALENDAR
VERSION:2.0
PRODID:-//wp-events-plugin.com//7.2.3.1//EN
BEGIN:VEVENT
UID:2188@events.nfb.ca
DTSTART;TZID=America/New_York:20260503T140000
DTEND;TZID=America/New_York:20260503T160000
DTSTAMP:20260421T190703Z
URL:https://events.nfb.ca/events/three-thousand-at-the-cca/
SUMMARY:Three Thousand at the CCA
DESCRIPTION:Join the Canadian Centre for Architecture for an intimate after
 noon of short films by regional Indigenous filmmakers\, curated by multidi
 sciplinary Haudenosaunee artist Iako’tsi:rareh Amanda Lickers in Shaug
 hnessy House\, former home to late nineteenth- and early twentieth-century
  Canadian Pacific Rail barons.\nThree Thousand\, ASINNAJAQ\, 2014\, 14 min
  04 s\nThis afternoon invites you to be a part of the re-storying of Shaug
 hnessy House through a lens of placekeeping: lounging in the salon with ho
 t tea\, building connections over light refreshments between screenings. W
 e invite you to take a collective pause while subverting the colonial lega
 cy’s of this well-restored heritage site\, animating the space with them
 es of Indigenous resistance\, refusal\, and reawakening through narrative 
 sovereignty.\n\nThis event is organized in conjunction with the exhibition
  Everlasting.\n\nIt will be held in English and is free of charge. As spa
 ce is limited\, registration is required.\n\n
ATTACH;FMTTYPE=image/jpeg:https://events.nfb.ca/wp-content/uploads/2020/01
 /threethousand.jpg
CATEGORIES:Screenings
LOCATION:Canadian Centre for Architecture\, 1920 Baile St\,\, Montreal\, Qu
 ebec\, H3H 1R4\, Canada
GEO:45.490955;-73.578462
X-APPLE-STRUCTURED-LOCATION;VALUE=URI;X-ADDRESS=1920 Baile St\,\, Montreal\
 , Quebec\, H3H 1R4\, Canada;X-APPLE-RADIUS=100;X-TITLE=Canadian Centre for
  Architecture:geo:45.490955,-73.578462
END:VEVENT
BEGIN:VTIMEZONE
TZID:America/New_York
X-LIC-LOCATION:America/New_York
BEGIN:DAYLIGHT
DTSTART:20260308T030000
TZOFFSETFROM:-0500
TZOFFSETTO:-0400
TZNAME:EDT
END:DAYLIGHT
END:VTIMEZONE
END:VCALENDAR