BEGIN:VCALENDAR
VERSION:2.0
PRODID:-//wp-events-plugin.com//7.2.3.1//EN
BEGIN:VEVENT
UID:2093@events.nfb.ca
DTSTART;TZID=America/Vancouver:20250926T180000
DTEND;TZID=America/Vancouver:20250926T200000
DTSTAMP:20250822T183625Z
URL:https://events.nfb.ca/events/the-stand-vancouver-public-library-mount-
 pleasant-branch/
SUMMARY:The Stand - Vancouver Public Library - Mount Pleasant branch
DESCRIPTION:As part of THE NFB IN LIBRARIES programming\, the Mount Pleasan
 t Branch of the Vancouver Public Library will present The Stand.\n\nThe St
 and | Filmmaker: Christopher Auchter | 2024 | 95 min\n\nOn a misty mornin
 g in the fall of 1985\, a small group of Haida people blockaded a muddy di
 rt road on Lyell Island\, demanding the government work with Indigenous pe
 ople to find a way to protect the land and the future. In a riveting new f
 eature documentary drawn from more than a hundred hours of archival footag
 e and audio\, award-winning director Christopher Auchter (Now Is the Time
 ) recreates the critical moment when the Haida Nation’s resolute act of
  vision and conscience changed the world.\n\nTHE STAND | Official Trailer 
 | National Film Board of Canada\n\n———-\nFREE SCREENING\nFor more in
 formation to this event\, visit the library calendar's page. 
ATTACH;FMTTYPE=image/jpeg:https://events.nfb.ca/wp-content/uploads/2024/10
 /Stand_ENG_EPK_Header_1440x810.jpg
CATEGORIES:Free Event,NFB IN LIBRARIES,Screenings
LOCATION:Vancouver Public Library - Mount Pleasant\, 1 Kingsway\, Vancouver
 \, BC\, V5T 3H7\, Canada
GEO:49.264161;-123.100264
X-APPLE-STRUCTURED-LOCATION;VALUE=URI;X-ADDRESS=1 Kingsway\, Vancouver\, BC
 \, V5T 3H7\, Canada;X-APPLE-RADIUS=100;X-TITLE=Vancouver Public Library - 
 Mount Pleasant:geo:49.264161,-123.100264
END:VEVENT
BEGIN:VTIMEZONE
TZID:America/Vancouver
X-LIC-LOCATION:America/Vancouver
BEGIN:DAYLIGHT
DTSTART:20250309T030000
TZOFFSETFROM:-0800
TZOFFSETTO:-0700
TZNAME:PDT
END:DAYLIGHT
END:VTIMEZONE
END:VCALENDAR