BEGIN:VCALENDAR
VERSION:2.0
PRODID:-//wp-events-plugin.com//7.2.3.1//EN
BEGIN:VEVENT
UID:1920@events.nfb.ca
DTSTART;TZID=America/New_York:20250213T180000
DTEND;TZID=America/New_York:20250213T200000
DTSTAMP:20250127T152823Z
URL:https://events.nfb.ca/events/sounds-pressure-reggae-in-a-foreign-land-
 series-toronto-public-library-lilian-h-smith-branch/
SUMMARY:Sounds & Pressure : Reggae in a Foreign Land Series - Toronto Publi
 c Library - Lilian H. Smith branch
DESCRIPTION:As part of THE NFB IN LIBRARIES annual programming\, the Lillia
 n H. Smith branch of the Toronto Public Library is presenting the followin
 g series to highlight Black History Month:\n\nSounds &amp\; Pressure: Regg
 ae in a Foreign Land |Directors Graeme Mathieson and Chris Flanagan | 2024
  | 5 x 15 min |\n\nThis new five-part NFB docu-series is an electrifying c
 elebration of the Jamaican icons that brought reggae to Toronto\, includin
 g Nana McLean\, Leroy Sibbles\, Johnny Osbourne\, Roy &amp\; Yvonne and Je
 rry Brown.\n\nSounds &amp\; Pressure: Reggae in a Foreign Land follows th
 e journeys of these icons. Through rare archives and infectious beats\, th
 is captivating five-part anthology series takes you from Kingston to Kensi
 ngton Market to see and hear how reggae made roots in Canada against all o
 dds.\n\n_______\n\nFREE SCREENING\nTo have more information on this screen
 ing\, consult the library's website.
ATTACH;FMTTYPE=image/jpeg:https://events.nfb.ca/wp-content/uploads/2024/07
 /ONF_954-SoundsPressure-Header-1920x1080-1.jpg
CATEGORIES:Free Event,NFB IN LIBRARIES,Screenings
LOCATION:Toronto Public Library - Lillian H. Smith branch\, 239 College St.
 \, Toronto\, ON\, M5T 1R5\, Canada
GEO:43.657967;-79.398302
X-APPLE-STRUCTURED-LOCATION;VALUE=URI;X-ADDRESS=239 College St.\, Toronto\,
  ON\, M5T 1R5\, Canada;X-APPLE-RADIUS=100;X-TITLE=Toronto Public Library -
  Lillian H. Smith branch:geo:43.657967,-79.398302
END:VEVENT
BEGIN:VTIMEZONE
TZID:America/New_York
X-LIC-LOCATION:America/New_York
BEGIN:STANDARD
DTSTART:20241103T010000
TZOFFSETFROM:-0400
TZOFFSETTO:-0500
TZNAME:EST
END:STANDARD
END:VTIMEZONE
END:VCALENDAR