BEGIN:VCALENDAR
VERSION:2.0
PRODID:-//wp-events-plugin.com//7.2.3.1//EN
BEGIN:VEVENT
UID:2190@events.nfb.ca
DTSTART;TZID=America/New_York:20260603T000000
DTEND;TZID=America/New_York:20260603T000000
DTSTAMP:20260421T193306Z
URL:https://events.nfb.ca/events/parade-queer-acts-of-love-and-resistance-
 co-presented-by-no-hate-in-huron-and-huron-county-pride/
SUMMARY:Parade: Queer Acts of Love and Resistance co-presented by No Hate i
 n Huron and Huron County Pride.
DESCRIPTION:Join No Hate in Huron and Huron County Pride for a free screeni
 ng of Parade: Queer Acts of Love and Resistance to celebrate pride season 
 at the Huron County Museum on June 3rd\, 2026.\n\nDirector: Noam Gonick |
  Producer: Justine Pimlott \n2025 | 96 min\nDocumentary\nEnglish and Fr
 ench with English subtitles\n\nTo register\, visit Huron County Pride's we
 bsite for details.\n\n&nbsp\;
ATTACH;FMTTYPE=image/jpeg:https://events.nfb.ca/wp-content/uploads/2024/12
 /Parade_1-2.jpg
CATEGORIES:Screenings
LOCATION:Huron County Museum\, 110 North Street\, Goderich\, Ontario\, N7A 
 2T8\, Canada
GEO:43.746726;-81.710407
X-APPLE-STRUCTURED-LOCATION;VALUE=URI;X-ADDRESS=110 North Street\, Goderich
 \, Ontario\, N7A 2T8\, Canada;X-APPLE-RADIUS=100;X-TITLE=Huron County Muse
 um:geo:43.746726,-81.710407
END:VEVENT
BEGIN:VTIMEZONE
TZID:America/New_York
X-LIC-LOCATION:America/New_York
BEGIN:DAYLIGHT
DTSTART:20260308T030000
TZOFFSETFROM:-0500
TZOFFSETTO:-0400
TZNAME:EDT
END:DAYLIGHT
END:VTIMEZONE
END:VCALENDAR