BEGIN:VCALENDAR
VERSION:2.0
PRODID:-//wp-events-plugin.com//7.2.3.1//EN
BEGIN:VEVENT
UID:2181@events.nfb.ca
DTSTART;TZID=America/Vancouver:20260419T190000
DTEND;TZID=America/Vancouver:20260419T211500
DTSTAMP:20260402T174102Z
URL:https://events.nfb.ca/events/nechako-in-smithers/
SUMMARY:Nechako in Smithers
DESCRIPTION:What Matters In Our Valley invites everyone in the Smithers are
 a to attend this special by-donation community screening of\n\nNechako: It
  Will Be a Big River Again  (Lyana Patrick | 2025 | 90 min)\n\nNechako i
 s a story of survival 70 years in the making\, beginning in the early 1950
 s in northwestern BC\, when the Kenney Dam was built to power an aluminum 
 smelter. This for-profit megaproject diverted 70% of the Nechako River int
 o an artificial reservoir\, flooding lands\, displacing wildlife and sever
 ely impacting the lives of local Stellat’en and Saik’uz Nations. The d
 am decimated salmon runs\, which are vital to the Nations’ way of life a
 nd compose up to 90% of their diet.\n\nFast forward to the present day\, a
 s the Nations wage a potentially precedent-setting legal battle against Ri
 o Tinto Alcan\, the global mining conglomerate responsible for the dam. Am
 idst large-scale environmental destruction and despite the will of powerfu
 l institutions\, this crucial documentary is a chronicle of hope and resis
 tance against all odds.\n\n*Includes a virtual Q&amp\;A with Lyana Patrick
 \, filmmaker\, from the Stellat’en First Nation and Jasmine Thomas\, fil
 m subject and Stewardship and Reconciliation Lead for the Saik’uz First 
 Nation.*\n\n&nbsp\;\n\n"Nechako is more than a story of the past—its co
 mpelling narrative allows the audience to listen\, witness\, and act."\n- 
 Ashley Kim\, Stir Magazine\n\n“The story of the Kenney Dam is one of res
 istance and restoration\, of the intimate connections between the health o
 f the land and the health of the people. What the Nechako Nations are seek
 ing is a role in the stewardship of our lands and waters\, something denie
 d to us for generations.”\n- Lyana Patrick\, filmmaker\n\nTrailer: https
 ://vimeo.com/1092268270
ATTACH;FMTTYPE=image/jpeg:https://events.nfb.ca/wp-content/uploads/2024/12
 /Nechako_keyart_16x9-scaled.jpg
CATEGORIES:By Donation,Nechako,Screenings
LOCATION:The Old Church\, 3704 1st Avenue\, Smithers\, BC\, V0J 2N0\, Canad
 a
GEO:54.778417;-127.169786
X-APPLE-STRUCTURED-LOCATION;VALUE=URI;X-ADDRESS=3704 1st Avenue\, Smithers\
 , BC\, V0J 2N0\, Canada;X-APPLE-RADIUS=100;X-TITLE=The Old Church:geo:54.7
 78417,-127.169786
END:VEVENT
BEGIN:VTIMEZONE
TZID:America/Vancouver
X-LIC-LOCATION:America/Vancouver
BEGIN:DAYLIGHT
DTSTART:20260308T030000
TZOFFSETFROM:-0800
TZOFFSETTO:-0700
TZNAME:PDT
END:DAYLIGHT
END:VTIMEZONE
END:VCALENDAR