BEGIN:VCALENDAR
VERSION:2.0
PRODID:-//wp-events-plugin.com//7.2.3.1//EN
BEGIN:VEVENT
UID:2182@events.nfb.ca
DTSTART;TZID=America/Vancouver:20260519T183000
DTEND;TZID=America/Vancouver:20260519T203000
DTSTAMP:20260324T234246Z
URL:https://events.nfb.ca/events/nechako-in-nanaimo/
SUMMARY:Nechako in Nanaimo
DESCRIPTION:Please come to this free screening of\n\nNechako: It Will Be a 
 Big River Again  (Lyana Patrick | 2025 | 90 min)\n\nNechako is a story o
 f survival 70 years in the making\, beginning in the early 1950s in northw
 estern BC\, when the Kenney Dam was built to power an aluminum smelter. Th
 is for-profit megaproject diverted 70% of the Nechako River into an artifi
 cial reservoir\, flooding lands\, displacing wildlife and severely impacti
 ng the lives of local Stellat’en and Saik’uz Nations. The dam decimate
 d salmon runs\, which are vital to the Nations’ way of life and compose 
 up to 90% of their diet.\n\nFast forward to the present day\, as the Natio
 ns wage a potentially precedent-setting legal battle against Rio Tinto Alc
 an\, the global mining conglomerate responsible for the dam. Amidst large-
 scale environmental destruction and despite the will of powerful instituti
 ons\, this crucial documentary is a chronicle of hope and resistance again
 st all odds. With Nechako\, Stellat’en filmmaker Lyana Patrick follows t
 he people fighting to restore a river and a way of life.\n\n&nbsp\;\n\n"Ne
 chako is more than a story of the past—its compelling narrative allows 
 the audience to listen\, witness\, and act."\n- Ashley Kim\, Stir Magazine
 \n\n“The story of the Kenney Dam is one of resistance and restoration\, 
 of the intimate connections between the health of the land and the health 
 of the people. What the Nechako Nations are seeking is a role in the stewa
 rdship of our lands and waters\, something denied to us for generations.
 ”\n- Lyana Patrick\, filmmaker\n\nTrailer: https://vimeo.com/1092268270
ATTACH;FMTTYPE=image/jpeg:https://events.nfb.ca/wp-content/uploads/2024/12
 /Nechako_keyart_16x9-scaled.jpg
CATEGORIES:Free Event,Nechako,Screenings
LOCATION:Nanaimo Art Gallery\, 150 Commercial Street\, Nanaimo\, BC\, V9R 5
 G6\, Canada
GEO:49.166308;-123.936688
X-APPLE-STRUCTURED-LOCATION;VALUE=URI;X-ADDRESS=150 Commercial Street\, Nan
 aimo\, BC\, V9R 5G6\, Canada;X-APPLE-RADIUS=100;X-TITLE=Nanaimo Art Galler
 y:geo:49.166308,-123.936688
END:VEVENT
BEGIN:VTIMEZONE
TZID:America/Vancouver
X-LIC-LOCATION:America/Vancouver
BEGIN:DAYLIGHT
DTSTART:20260308T030000
TZOFFSETFROM:-0800
TZOFFSETTO:-0700
TZNAME:PDT
END:DAYLIGHT
END:VTIMEZONE
END:VCALENDAR