BEGIN:VCALENDAR
VERSION:2.0
PRODID:-//wp-events-plugin.com//7.2.3.1//EN
BEGIN:VEVENT
UID:2191@events.nfb.ca
DTSTART;TZID=America/New_York:20260615T000000
DTEND;TZID=America/New_York:20260622T000000
DTSTAMP:20260421T195822Z
URL:https://events.nfb.ca/events/national-indigenous-peoples-day-at-the-ca
 nadian-museum-of-history/
SUMMARY:National Indigenous Peoples Day at the Canadian Museum of History
DESCRIPTION:This year for National Indigenous Peoples Day (June 21st)\, the
  Indigenous Experience in collaboration with Commemorate Canada will be pr
 esenting two NFB short films by indigenous filmmakers at the Canadian Muse
 um of History.\n\n 	Miss Campbell: Inuk Teacher\, Heather Campbell 2023 |
  15 min\, Documentary\n 	Three Thousand\, Three Thousand\,ASINNAJAQ\, 2017
  | 14 min 04 s Animation\n\nThe films will be presented on loop everyday b
 etween 9am and 5pm\, from June 15th to June 22nd. Walk-ins included within
  general admission.
ATTACH;FMTTYPE=image/jpeg:https://events.nfb.ca/wp-content/uploads/2024/04
 /ONF_846-MissCampbell-1440x810-EN.jpg
CATEGORIES:Screenings
LOCATION:Canadian Museum of History\, 100 Rue Laurier\, Gatineau\, Quebec\,
  K1A 0M8\, Canada
GEO:45.429253;-75.70768
X-APPLE-STRUCTURED-LOCATION;VALUE=URI;X-ADDRESS=100 Rue Laurier\, Gatineau\
 , Quebec\, K1A 0M8\, Canada;X-APPLE-RADIUS=100;X-TITLE=Canadian Museum of 
 History:geo:45.429253,-75.70768
END:VEVENT
BEGIN:VTIMEZONE
TZID:America/New_York
X-LIC-LOCATION:America/New_York
BEGIN:DAYLIGHT
DTSTART:20260308T030000
TZOFFSETFROM:-0500
TZOFFSETTO:-0400
TZNAME:EDT
END:DAYLIGHT
END:VTIMEZONE
END:VCALENDAR