BEGIN:VCALENDAR
VERSION:2.0
PRODID:-//wp-events-plugin.com//7.2.3.1//EN
BEGIN:VEVENT
UID:2189@events.nfb.ca
DTSTART;TZID=America/New_York:20260519T170000
DTEND;TZID=America/New_York:20260519T190000
DTSTAMP:20260421T192046Z
URL:https://events.nfb.ca/events/living-together-at-dublin-street-united-c
 hurch/
SUMMARY:Living Together at Dublin Street United Church
DESCRIPTION:Join the Dublin Street United Church on May 19th for a free com
 munity screening of:\n\n Living Together\nHalima Elkhatabi\n2024 | 75 min\
 nDocumentary\nOriginal version with English subtitles\n\nIn a series of in
 quisitive encounters and captivating conversations\, young people looking 
 for a roommate explore the prospect of forging genuine connections. Placin
 g her camera in 15 Montreal apartments advertising a “room for rent\,”
  director Halima Elkhatabi paints a complex and engaging picture of a gene
 ration accustomed to playing all their identity cards to find their place 
 in the world. From the start\, the questions and the answers run the gamut
 \, each person seeking to define their individuality while probing that of
  the other.
ATTACH;FMTTYPE=image/jpeg:https://events.nfb.ca/wp-content/uploads/2026/04
 /ONF_973-Cohabiter-1440x810-EN.jpg
CATEGORIES:Screenings
LOCATION:Dublin Street United Church\, 68 Suffolk St W\,\, Guelph\, ON\, ON
 \, N1H 2J2\, Canada
GEO:43.546136;-80.256339
X-APPLE-STRUCTURED-LOCATION;VALUE=URI;X-ADDRESS=68 Suffolk St W\,\, Guelph\
 , ON\, ON\, N1H 2J2\, Canada;X-APPLE-RADIUS=100;X-TITLE=Dublin Street Unit
 ed Church:geo:43.546136,-80.256339
END:VEVENT
BEGIN:VTIMEZONE
TZID:America/New_York
X-LIC-LOCATION:America/New_York
BEGIN:DAYLIGHT
DTSTART:20260308T030000
TZOFFSETFROM:-0500
TZOFFSETTO:-0400
TZNAME:EDT
END:DAYLIGHT
END:VTIMEZONE
END:VCALENDAR